BEGIN:VCALENDAR
VERSION:2.0
PRODID:-//wp-events-plugin.com//7.2.3.1//EN
BEGIN:VEVENT
UID:16@cofradiadeldesarme.es
DTSTART;TZID=Europe/Madrid;VALUE=DATE:20250205
DTEND;TZID=Europe/Madrid;VALUE=DATE:20250206
DTSTAMP:20250107T173920Z
URL:https://cofradiadeldesarme.es/eventos/xxxix-capitulo-morcilla-de-beasa
 in/
SUMMARY:XXXIX Capítulo Morcilla de Beasain
DESCRIPTION:
ATTACH;FMTTYPE=image/jpeg:https://cofradiadeldesarme.es/wp-content/uploads
 /2025/01/Cofradia-de-la-Morcilla-de-Beasain.jpg
CATEGORIES:Capítulos de Cofradías
LOCATION:Beasain\, Plaza San Martín\, s/n\, Beasain\, 20200\, Guipuzkoa\, 
 España
X-APPLE-STRUCTURED-LOCATION;VALUE=URI;X-ADDRESS=Plaza San Martín\, s/n\, B
 easain\, 20200\, Guipuzkoa\, España;X-APPLE-RADIUS=100;X-TITLE=Beasain:ge
 o:0,0
END:VEVENT
BEGIN:VTIMEZONE
TZID:Europe/Madrid
X-LIC-LOCATION:Europe/Madrid
BEGIN:STANDARD
DTSTART:20241027T020000
TZOFFSETFROM:+0200
TZOFFSETTO:+0100
TZNAME:CET
END:STANDARD
END:VTIMEZONE
END:VCALENDAR