BEGIN:VCALENDAR
VERSION:2.0
PRODID:-//wp-events-plugin.com//7.2.3.1//EN
BEGIN:VEVENT
UID:12@cofradiadeldesarme.es
DTSTART;VALUE=DATE:20241012
DTEND;VALUE=DATE:20241013
DTSTAMP:20241006T103221Z
URL:https://cofradiadeldesarme.es/eventos/xx-capitulo-de-la-cofradia-del-v
 ino-de-cangas/
SUMMARY:XX Capítulo de la Cofradía del Vino de Cangas
DESCRIPTION:
ATTACH;FMTTYPE=image/jpeg:https://cofradiadeldesarme.es/wp-content/uploads
 /2024/10/XII-Capitulo-del-Vino-de-Cangas.jpg
CATEGORIES:Capítulos de Cofradías,Capítulos de Cofradías de Asturias
END:VEVENT
END:VCALENDAR