BEGIN:VCALENDAR
VERSION:2.0
PRODID:-//wp-events-plugin.com//7.2.3.1//EN
BEGIN:VEVENT
UID:6@cofradiadeldesarme.es
DTSTART:20230610T000000Z
DTEND:20230610T000000Z
DTSTAMP:20230526T094048Z
URL:https://cofradiadeldesarme.es/eventos/xvi-gran-capitulo-de-la-cofradia
 -del-vino-de-la-ribera-del-duero/
SUMMARY:XVI Gran Capítulo de la Cofradía del Vino de la Ribera del Duero
DESCRIPTION:El sábado 10 de junio la Cofradía del Vino de la Ribera del D
 uero celebra su XVI Gran Capítulo Cofradía. Si deseas participar que se 
 apúntate aquí.
CATEGORIES:Eventos gastronómicos
LOCATION:Castillo de Peñafiel\, Castillo de Peñafiel\, Peñafiel\, Vallad
 olid\, 47300\, España
X-APPLE-STRUCTURED-LOCATION;VALUE=URI;X-ADDRESS=Castillo de Peñafiel\, Pe
 ñafiel\, Valladolid\, 47300\, España;X-APPLE-RADIUS=100;X-TITLE=Castillo
  de Peñafiel:geo:0,0
END:VEVENT
END:VCALENDAR