BEGIN:VCALENDAR
VERSION:2.0
PRODID:-//wp-events-plugin.com//7.2.3.1//EN
BEGIN:VEVENT
UID:8@cofradiadeldesarme.es
DTSTART;VALUE=DATE:20240921
DTEND;VALUE=DATE:20240922
DTSTAMP:20240911T153938Z
URL:https://cofradiadeldesarme.es/eventos/xvi-capitulo-real-confraria-do-v
 inho-alvarinho/
SUMMARY:XVI Capítulo Real Confraria do Vinho Alvarinho
DESCRIPTION:El próximo 21 de septiembre la Real Confraria do Vinho Alvarin
 ho nos nombrará Cofradía Hermana en su XVI Capítulo\, que se celebra en
  Melgaço\, Portugal. La comida del Capítulo tiene un precio de 45€
ATTACH;FMTTYPE=image/jpeg:https://cofradiadeldesarme.es/wp-content/uploads
 /2024/09/Cofraria-do-Vinjo-Alvarinho.jpg
CATEGORIES:Capítulos de Cofradías,Capítulos de Cofradías
 Internacionales
END:VEVENT
END:VCALENDAR