BEGIN:VCALENDAR
VERSION:2.0
PRODID:-//wp-events-plugin.com//7.2.3.1//EN
BEGIN:VEVENT
UID:13@cofradiadeldesarme.es
DTSTART;TZID=Europe/Madrid:20250111T090000
DTEND;TZID=Europe/Madrid:20250111T173000
DTSTAMP:20250107T173946Z
URL:https://cofradiadeldesarme.es/eventos/xix-gran-capitulo-de-amigos-de-l
 os-nabos/
SUMMARY:XIX Gran Capítulo de Amigos de los Nabos
DESCRIPTION:Los próximos días 10 y 11 de enero de 2025 se celebrará el X
 IX Gran Capítulo de Amigos de los Nabos\, que se desarrollará en La Foz 
 de Morcín.\nInscríbete aquí. Elige si vas a ir al Capítulo y quedarte 
 a la comida o si solamente vas al Capítulo. La comida cuesta 55€ y se a
 bona en el mismo Capítulo.\n\n\nPrograma:\n\n	09:30 h- Recepción y desay
 uno de bienvenida en el Edificio Municipal de Actividades Múltiples con l
 as cofradías asistentes e invitados.\n10:30 h- Solemne Función Religiosa
  cantada por el coro.\n11:15 h- Desfile de Cofradías por las calles de La
  Foz\, con acompañamiento de la banda de gaitas Xácara de Oviedo y la Ag
 rupación Folclórica Picu Villa\, de Riaño (Langreo). Seguidamente se ha
 rá la foto de familia con todas las Cofradías en el parque municipal.\n1
 2:00 h- En la “Plaza del Cura”:\nVisita y degustación en los puestos 
 de productos agroalimentarios de la zona: vinos Monasterio de Corias (de l
 a Tierra de Cangas)\, quesos de Afuega´l Pitu\, embutidos Ca Mamina\, que
 sos de Arias nabos La Cofradía\, casadielles\, miel\, etc. Degustación g
 ratuita: sidra Herminio\, cerveza asturiana Santa\, quesos Reny Picot.\n12
 :45 h- Ceremonia del XIX Gran Capítulo\, en la Iglesia Parroquial\, con n
 ombramiento de Cofrades de Honor y de Número. \nEntrega de premios del II
  Concurso Interregional y XII regional de cocina de los nabos: “Los nabo
 s na cocina” del IES Valle de Aller para Escuelas de Hostelería. Organi
 zado por la Cofradía Amigos de Los Nabos de la Foz de Morcín y la Escuel
 a de Hostelería del IES Valle de Aller\n14:30 h- Almuerzo de confraterniz
 ación en el edificio Municipal de Servicios Múltiples de La Foz.\n\n\n\n
 \nMENÚ XIX GRAN CAPÍTULO\n\nENTRANTES EN MESA\nJamón ibérico Guijuelo.
 \nPizarras de quesos asturianos con dulce. \nVasito de crema de nécoras.
  \n\nPLATO PRINCIPAL\nPote de nabos de San Antón con “compango casero
 ” La Braña.\n\nTERCER PLATO\nMerluza en salsa verde con langostinos. \n
 \nPOSTRE\nTorrija brioche con helado de leche merengada. \nCasadielles ast
 urianes  de Migayina.\n\n---------------------\nCafé arábigo 100% “Lav
 azza”\, Infusiones y panes variados  \nVinos y Licores Monasterio de Cor
 ias\, agua Fuensanta y bombones \n\nPRECIO DEL MENÚ 55€
ATTACH;FMTTYPE=image/jpeg:https://cofradiadeldesarme.es/wp-content/uploads
 /2024/12/XIX-Capitulo-de-los-Nabos.jpg
CATEGORIES:Capítulos de Cofradías,Capítulos de Cofradías de Asturias
END:VEVENT
BEGIN:VTIMEZONE
TZID:Europe/Madrid
X-LIC-LOCATION:Europe/Madrid
BEGIN:STANDARD
DTSTART:20241027T020000
TZOFFSETFROM:+0200
TZOFFSETTO:+0100
TZNAME:CET
END:STANDARD
END:VTIMEZONE
END:VCALENDAR