BEGIN:VCALENDAR
VERSION:2.0
PRODID:-//wp-events-plugin.com//7.2.3.1//EN
BEGIN:VEVENT
UID:2@cofradiadeldesarme.es
DTSTART;VALUE=DATE:20221111
DTEND;VALUE=DATE:20221114
DTSTAMP:20221110T171454Z
URL:https://cofradiadeldesarme.es/eventos/xantar-2022/
SUMMARY:Xantar 2022
DESCRIPTION:Desde el 10 de noviembre al 13 de noviembre se celebra en Ouren
 se la XVIII edición del Encuentro Internacional de Cofradías Gastronómi
 cas y Enófilas Xantar 2022. Todos aquellos que deseéis asistir\, por fav
 or\, registraros aquí.
ATTACH;FMTTYPE=image/jpeg:https://cofradiadeldesarme.es/wp-content/uploads
 /2022/11/xantar-2022.jpg
CATEGORIES:Eventos gastronómicos
LOCATION:Xantar Ourense\, Rúa Ramón Puga\, 63\, 32005 Ourense\, Ourense\,
  España
GEO:42.327159;-7.858363
X-APPLE-STRUCTURED-LOCATION;VALUE=URI;X-ADDRESS=Rúa Ramón Puga\, 63\, 320
 05 Ourense\, Ourense\, España;X-APPLE-RADIUS=100;X-TITLE=Xantar Ourense:g
 eo:42.327159,-7.858363
END:VEVENT
END:VCALENDAR