BEGIN:VCALENDAR
VERSION:2.0
PRODID:-//wp-events-plugin.com//7.2.3.1//EN
BEGIN:VEVENT
UID:9@cofradiadeldesarme.es
DTSTART;VALUE=DATE:20241006
DTEND;VALUE=DATE:20241007
DTSTAMP:20240911T153034Z
URL:https://cofradiadeldesarme.es/eventos/viii-capitulo-de-la-cofradia-del
 -queso-de-gamoneu/
SUMMARY:VIII Capítulo de la Cofradía del Queso de Gamoneu
DESCRIPTION:
ATTACH;FMTTYPE=image/jpeg:https://cofradiadeldesarme.es/wp-content/uploads
 /2024/09/Gamoneu.jpg
CATEGORIES:Capítulos de Cofradías,Capítulos de Cofradías de Asturias
END:VEVENT
END:VCALENDAR