BEGIN:VCALENDAR
VERSION:2.0
PRODID:-//wp-events-plugin.com//7.2.3.1//EN
BEGIN:VEVENT
UID:11@cofradiadeldesarme.es
DTSTART;VALUE=DATE:20241012
DTEND;VALUE=DATE:20241013
DTSTAMP:20241006T103051Z
URL:https://cofradiadeldesarme.es/eventos/vi-capitulo-de-la-cofradia-de-la
 -necora/
SUMMARY:VI Capítulo de la Cofradía de la Nécora
DESCRIPTION:
ATTACH;FMTTYPE=image/jpeg:https://cofradiadeldesarme.es/wp-content/uploads
 /2024/10/VI-Capitulo-de-la-Necora.jpg
CATEGORIES:Capítulos de Cofradías,Capítulos de Cofradías de Asturias
END:VEVENT
END:VCALENDAR