BEGIN:VCALENDAR
VERSION:2.0
PRODID:-//wp-events-plugin.com//7.2.3.1//EN
BEGIN:VEVENT
UID:10@cofradiadeldesarme.es
DTSTART;VALUE=DATE:20241005
DTEND;VALUE=DATE:20241006
DTSTAMP:20240911T174244Z
URL:https://cofradiadeldesarme.es/eventos/v-capitulo-cofradia-del-bonito-d
 e-colindres/
SUMMARY:V Capítulo Cofradía del Bonito de Colindres
DESCRIPTION:VER PROGRAMA DEL V CAPITULO COFRADÍA DEL BONITO DEL NORTE
ATTACH;FMTTYPE=image/jpeg:https://cofradiadeldesarme.es/wp-content/uploads
 /2024/09/Cofradia-del-Bonito-de-Colindres.jpg
CATEGORIES:Capítulos de Cofradías,Capítulos de Cofradías de España
END:VEVENT
END:VCALENDAR