BEGIN:VCALENDAR
VERSION:2.0
PRODID:-//wp-events-plugin.com//7.2.3.1//EN
BEGIN:VEVENT
UID:5@cofradiadeldesarme.es
DTSTART;VALUE=DATE:20221221
DTEND;VALUE=DATE:20221222
DTSTAMP:20221118T112646Z
URL:https://cofradiadeldesarme.es/eventos/menus-solidarios/
SUMMARY:Menús Solidarios
DESCRIPTION:Otras Navidades más la Cofradía del Desarme\, con el patrocin
 io de Coca Cola\, vuelve a pensar en los más desfavorecidos y ponen en ma
 rcha la campaña Menús Solidarios\, en la que se entregarán menús a 400
  familias. Las fechas de entrega que se barajan son el 21 o el 23 de dicie
 mbre.\n\nLa mecánica será similar a la del año pasado. Todos los que qu
 eráis participar apuntaros aquí. Solo es necesario que pongáis el nombr
 e de vuestro establecimiento\, un email y un teléfono de contacto.
ATTACH;FMTTYPE=image/jpeg:https://cofradiadeldesarme.es/wp-content/uploads
 /2022/11/campana-menus-solidarios-2.jpg
CATEGORIES:Menús Solidarios,Restaurantes Embajadores
LOCATION:Oviedo\, Oviedo\, Asturias\, Oviedo\, Asturias\, 33001\, España
GEO:43.365294;-5.845275
X-APPLE-STRUCTURED-LOCATION;VALUE=URI;X-ADDRESS=Oviedo\, Asturias\, Oviedo\
 , Asturias\, 33001\, España;X-APPLE-RADIUS=100;X-TITLE=Oviedo:geo:43.3652
 94,-5.845275
END:VEVENT
END:VCALENDAR