BEGIN:VCALENDAR
VERSION:2.0
PRODID:-//wp-events-plugin.com//7.2.3.1//EN
BEGIN:VEVENT
UID:7@cofradiadeldesarme.es
DTSTART:20240917T133000Z
DTEND:20240917T173000Z
DTSTAMP:20240911T153923Z
URL:https://cofradiadeldesarme.es/eventos/distinciones-fundacion-grande-co
 vian/
SUMMARY:Distinciones Fundación Grande Covián
DESCRIPTION:La Fundación Grande Covián ha premiado este año a la Cofrad
 ía del Desarme de Oviedo por aglutinar gastronomía y cultura. Nuestro re
 staurante Embajador El Fartuquín también recibirá el reconocimiento "Co
 mer Salud".\n\nLas distinciones se entregarán en un acto al que acompaña
  una comida saludable en el hotel Iberik Santo Domingo Plaza de Oviedo el 
 próximo martes 17 de septiembre a partir de las 13:30 horas.
ATTACH;FMTTYPE=image/jpeg:https://cofradiadeldesarme.es/wp-content/uploads
 /2024/09/Logo-Fundacion-Grande-Covian_upscayl_2x_realesrgan-x4plus.jpg
CATEGORIES:Eventos gastronómicos
LOCATION:Hotel Iberik Santo Domingo Plaza\, Rda. Sur\, s/n\, Oviedo\, Astur
 ias\, Oviedo\, Asturias\, 33008\, España
X-APPLE-STRUCTURED-LOCATION;VALUE=URI;X-ADDRESS=Rda. Sur\, s/n\, Oviedo\, A
 sturias\, Oviedo\, Asturias\, 33008\, España;X-APPLE-RADIUS=100;X-TITLE=H
 otel Iberik Santo Domingo Plaza:geo:0,0
END:VEVENT
END:VCALENDAR